BEGIN:VCALENDAR
PRODID:-//kirchenweb.ch gmbh//veranstaltungsausgabe v2.0//DE
VERSION:2.0
METHOD:PUBLISH
BEGIN:VEVENT
DTSTART:20260517T080000Z
DTEND:20260517T090000Z
LOCATION:Kath. Kirche Döttingen Delta\, \, 5312 Döttingen
TRANSP:OPAQUE
SEQUENCE:0
UID:10633-veranstaltung@ref-klingnau.ch
DTSTAMP:20250902T090904Z
DESCRIPTION:Wir singen\, basteln ein Bhaltis\, beten\, hören eine
  Geschichte und geniessen das Zusammensein.\n\nKontakt:
  jannine.sutter@ref-klingnau.ch\n\nWeitere Infos:
  https://www.ref-klingnau.ch/veranstaltung/10633
SUMMARY:ZÄME.SI mit de Chind / Sonnigsfiir
PRIORITY:5
X-MICROSOFT-CDO-IMPORTANCE:1
CLASS:PUBLIC
END:VEVENT
END:VCALENDAR
