BEGIN:VCALENDAR
PRODID:-//kirchenweb.ch gmbh//veranstaltungsausgabe v2.0//DE
VERSION:2.0
METHOD:PUBLISH
BEGIN:VEVENT
DTSTART:20260505T113000Z
DTEND:20260505T150000Z
LOCATION:Ref. Kirchgemeindehaus\, Kirchweg 14\, 5313 Klingnau
TRANSP:OPAQUE
SEQUENCE:0
UID:10655-veranstaltung@ref-klingnau.ch
DTSTAMP:20250924T070627Z
DESCRIPTION:Kontakt: Heidy Rom 056 245 31 13\n\nWeitere Infos:
  https://www.ref-klingnau.ch/veranstaltung/10655
SUMMARY:Senioren Spielnachmittag
PRIORITY:5
X-MICROSOFT-CDO-IMPORTANCE:1
CLASS:PUBLIC
END:VEVENT
END:VCALENDAR
