BEGIN:VCALENDAR
PRODID:-//kirchenweb.ch gmbh//veranstaltungsausgabe v2.0//DE
VERSION:2.0
METHOD:PUBLISH
BEGIN:VEVENT
DTSTART:20260619T070000Z
DTEND:20260619T074500Z
LOCATION:Ref. Kirchgemeindehaus\, Kirchweg 14\, 5313 Klingnau
TRANSP:OPAQUE
SEQUENCE:0
UID:10700-veranstaltung@ref-klingnau.ch
DTSTAMP:20251014T054727Z
DESCRIPTION:Kontakt: Karin Märki\, Dipl. Spielgruppenleiterin und
  Fachausweis Eltern-Kind-Singen\n\nWeitere Infos:
  https://www.ref-klingnau.ch/veranstaltung/10700
SUMMARY:Eltern-Kind-Singen Gruppe A
PRIORITY:5
X-MICROSOFT-CDO-IMPORTANCE:1
CLASS:PUBLIC
END:VEVENT
END:VCALENDAR
