BEGIN:VCALENDAR
PRODID:-//kirchenweb.ch gmbh//veranstaltungsausgabe v2.0//DE
VERSION:2.0
METHOD:PUBLISH
BEGIN:VEVENT
DTSTART:20260619T081500Z
DTEND:20260619T090000Z
LOCATION:Ref. Kirchgemeindehaus\, Kirchweg 14\, 5313 Klingnau
TRANSP:OPAQUE
SEQUENCE:0
UID:10712-veranstaltung@ref-klingnau.ch
DTSTAMP:20251014T054814Z
DESCRIPTION:Mitbringen: ABS-Söckli\nKursdauer: 6 Lektionen\nKosten: CHF.
  72.- pro Familie\n\nZnüni Pause für alle: 9.45 - 10.15 Uhr\n\n
 \nKontakt: Karin Märki\, Dipl. Spielgruppenleiterin und Fachausweis
  Eltern-Kind-Singen\n\nWeitere Infos:
  https://www.ref-klingnau.ch/veranstaltung/10712
SUMMARY:Eltern-Kind-Singen Gruppe B
PRIORITY:5
X-MICROSOFT-CDO-IMPORTANCE:1
CLASS:PUBLIC
END:VEVENT
END:VCALENDAR
