BEGIN:VCALENDAR
PRODID:-//kirchenweb.ch gmbh//veranstaltungsausgabe v2.0//DE
VERSION:2.0
METHOD:PUBLISH
BEGIN:VEVENT
DTSTART:20260922T120000Z
DTEND:20260922T140000Z
LOCATION:Im Bistro der Aareperle\, \, 5312 Döttingen
TRANSP:OPAQUE
SEQUENCE:0
UID:10739-veranstaltung@ref-klingnau.ch
DTSTAMP:20251028T093645Z
DESCRIPTION:Sie möchten gerne reden oder suchen ein offenes Ohr für Ihre
  Gedanken und Ihre Lebensgeschichten\, dann können Sie mit der
  Reformierten Pfarrerin und Seelsorgerin Jasmin von Wartburg in Kontakt
  kommen (Bistro Aareperle\, Döttingen) am:\n\n\nKontakt: Pfarrerin Jasmin
  von Wartburg\n\nWeitere Infos:
  https://www.ref-klingnau.ch/veranstaltung/10739
SUMMARY:Fällt aus-Offenes Ohr
PRIORITY:5
X-MICROSOFT-CDO-IMPORTANCE:1
CLASS:PUBLIC
END:VEVENT
END:VCALENDAR
