BEGIN:VCALENDAR
PRODID:-//kirchenweb.ch gmbh//veranstaltungsausgabe v2.0//DE
VERSION:2.0
METHOD:PUBLISH
BEGIN:VEVENT
DTSTART;VALUE=DATE:20260917
DTEND;VALUE=DATE:20260918
LOCATION:Döttingen \, \, 5312 Döttingen
TRANSP:OPAQUE
SEQUENCE:0
UID:10751-veranstaltung@ref-klingnau.ch
DTSTAMP:20251028T093842Z
DESCRIPTION:Kontakt: Pfarrerin Jasmin von Wartburg\n\nWeitere Infos:
  https://www.ref-klingnau.ch/veranstaltung/10751
SUMMARY:Fällt aus- Andacht in der Aareperle
PRIORITY:5
X-MICROSOFT-CDO-IMPORTANCE:1
CLASS:PUBLIC
END:VEVENT
END:VCALENDAR
