BEGIN:VCALENDAR
PRODID:-//kirchenweb.ch gmbh//veranstaltungsausgabe v2.0//DE
VERSION:2.0
METHOD:PUBLISH
BEGIN:VEVENT
DTSTART:20260806T141500Z
DTEND:20260806T151500Z
LOCATION:Döttingen \, \, 5312 Döttingen
TRANSP:OPAQUE
SEQUENCE:0
UID:10762-veranstaltung@ref-klingnau.ch
DTSTAMP:20251028T094038Z
DESCRIPTION:Kontakt: Pfarrerin Jasmin von Wartburg\n\nWeitere Infos:
  https://www.ref-klingnau.ch/veranstaltung/10762
SUMMARY:Andacht in der Aareperle
PRIORITY:5
X-MICROSOFT-CDO-IMPORTANCE:1
CLASS:PUBLIC
END:VEVENT
END:VCALENDAR
