BEGIN:VCALENDAR
PRODID:-//kirchenweb.ch gmbh//veranstaltungsausgabe v2.0//DE
VERSION:2.0
METHOD:PUBLISH
BEGIN:VEVENT
DTSTART:20260506T173000Z
DTEND:20260506T190000Z
LOCATION:Johanniter in Klingnau\, \, 5313 Klingnau
TRANSP:OPAQUE
SEQUENCE:0
UID:10788-veranstaltung@ref-klingnau.ch
DTSTAMP:20260409T065011Z
DESCRIPTION:Für das zweite Treffen vom 6. Mai 2026 im Johanniter 19.30
  Uhr \nwird aus dem Buch "Licht Spiel" von Daniel Kehlmann \nder Buchteil
  "Drinnen" bis und mit Seite 420 fertiggelesen. \n\nKontakt: Seelsorger
  Peter Zürn\n\nWeitere Infos:
  https://www.ref-klingnau.ch/veranstaltung/10788
SUMMARY:Ökumenischer Lektürekreis
PRIORITY:5
X-MICROSOFT-CDO-IMPORTANCE:1
CLASS:PUBLIC
END:VEVENT
END:VCALENDAR
