BEGIN:VCALENDAR
PRODID:-//kirchenweb.ch gmbh//veranstaltungsausgabe v2.0//DE
VERSION:2.0
METHOD:PUBLISH
BEGIN:VEVENT
DTSTART:20260611T123000Z
DTEND:20260611T131500Z
LOCATION:Ref. Kirchgemeindehaus\, Kirchweg 14\, 5313 Klingnau
TRANSP:OPAQUE
SEQUENCE:0
UID:10803-veranstaltung@ref-klingnau.ch
DTSTAMP:20260122T074513Z
DESCRIPTION:Mitbringen: ABS-Söckli\n\n\n\nKontakt: Karin Märki\, Dipl.
  Spielgruppenleiterin und Fachausweis Eltern-Kind-Singen\n\nWeitere Infos:
  https://www.ref-klingnau.ch/veranstaltung/10803
SUMMARY:Eltern-Kind-Singen
PRIORITY:5
X-MICROSOFT-CDO-IMPORTANCE:1
CLASS:PUBLIC
END:VEVENT
END:VCALENDAR
