BEGIN:VCALENDAR
PRODID:-//kirchenweb.ch gmbh//veranstaltungsausgabe v2.0//DE
VERSION:2.0
METHOD:PUBLISH
BEGIN:VEVENT
DTSTART:20260610T090000Z
DTEND:20260610T163000Z
LOCATION:\, \,
TRANSP:OPAQUE
SEQUENCE:0
UID:10829-veranstaltung@ref-klingnau.ch
DTSTAMP:20260423T090512Z
DESCRIPTION:Senioren-Ausflug für Mitglieder ab 70 Jahren\nAnmeldeschluss
  ist am 26.05.2026.\n\nKontakt: Pfarrerin Jasmin von Wartburg\n\nWeitere
  Infos: https://www.ref-klingnau.ch/veranstaltung/10829
SUMMARY:Senioren-Ausflug
PRIORITY:5
X-MICROSOFT-CDO-IMPORTANCE:1
CLASS:PUBLIC
END:VEVENT
END:VCALENDAR
