BEGIN:VCALENDAR
PRODID:-//kirchenweb.ch gmbh//veranstaltungsausgabe v2.0//DE
VERSION:2.0
METHOD:PUBLISH
BEGIN:VEVENT
DTSTART:20261204T130000Z
DTEND:20261204T160000Z
LOCATION:Ref. Kirchgemeindehaus\, Kirchweg 14\, 5313 Klingnau
TRANSP:OPAQUE
SEQUENCE:0
UID:10831-veranstaltung@ref-klingnau.ch
DTSTAMP:20260219T145837Z
DESCRIPTION:Kontakt: Pfarrerin Jasmin von Wartburg\n\nWeitere Infos:
  https://www.ref-klingnau.ch/veranstaltung/10831
SUMMARY:Senioren-Adventsfeier
PRIORITY:5
X-MICROSOFT-CDO-IMPORTANCE:1
CLASS:PUBLIC
END:VEVENT
END:VCALENDAR
