BEGIN:VCALENDAR
PRODID:-//kirchenweb.ch gmbh//veranstaltungsausgabe v2.0//DE
VERSION:2.0
METHOD:PUBLISH
BEGIN:VEVENT
DTSTART:20260613T080000Z
DTEND:20260613T100000Z
LOCATION:Ref. Kirche\, Kirchweg 14\, 5313 Klingnau
TRANSP:OPAQUE
SEQUENCE:0
UID:10868-veranstaltung@ref-klingnau.ch
DTSTAMP:20260304T084357Z
DESCRIPTION:Power Kids: 9:30Uhr bis 10:45 Uhr\nPower Teens: 10:45 Uhr bis
  12:00 Uhr\n\nKontakt: Katechetin Fabienne Kaufmann und Patrick Jacobi\n
 \nWeitere Infos: https://www.ref-klingnau.ch/veranstaltung/10868
SUMMARY:Probe Ökumenischer Kinderchor Power Kids/Power Teens
PRIORITY:5
X-MICROSOFT-CDO-IMPORTANCE:1
CLASS:PUBLIC
END:VEVENT
END:VCALENDAR
