BEGIN:VCALENDAR
PRODID:-//kirchenweb.ch gmbh//veranstaltungsausgabe v2.0//DE
VERSION:2.0
METHOD:PUBLISH
BEGIN:VEVENT
DTSTART:20260503T080000Z
DTEND:20260503T090000Z
LOCATION:Ref. Kirche\, Kirchweg 14\, 5313 Klingnau
TRANSP:OPAQUE
SEQUENCE:0
UID:10888-veranstaltung@ref-klingnau.ch
DTSTAMP:20260324T113304Z
DESCRIPTION:Kontakt: Pfarrerin Jasmin von Wartburg\n\nWeitere Infos:
  https://www.ref-klingnau.ch/veranstaltung/10888
SUMMARY:"Zäme"-Sing-Gottesdienst\, anschliessend Apéro
PRIORITY:5
X-MICROSOFT-CDO-IMPORTANCE:1
CLASS:PUBLIC
END:VEVENT
END:VCALENDAR
