BEGIN:VCALENDAR
PRODID:-//kirchenweb.ch gmbh//veranstaltungsausgabe v2.0//DE
VERSION:2.0
METHOD:PUBLISH
BEGIN:VEVENT
DTSTART:20260510T080000Z
DTEND:20260510T090000Z
LOCATION:Ref. Kirche\, Kirchweg 14\, 5313 Klingnau
TRANSP:OPAQUE
SEQUENCE:0
UID:10889-veranstaltung@ref-klingnau.ch
DTSTAMP:20260422T075845Z
DESCRIPTION:Kontakt: Pfarrer Markus Dettwiler\n\nWeitere Infos:
  https://www.ref-klingnau.ch/veranstaltung/10889
SUMMARY:Gottesdienst zum Muttertag mit Pfarrer Markus Dettwiler; Musik:
  Karl Selbach
PRIORITY:5
X-MICROSOFT-CDO-IMPORTANCE:1
CLASS:PUBLIC
END:VEVENT
END:VCALENDAR
