BEGIN:VCALENDAR
PRODID:-//kirchenweb.ch gmbh//veranstaltungsausgabe v2.0//DE
VERSION:2.0
METHOD:PUBLISH
BEGIN:VEVENT
DTSTART:20260514T080000Z
DTEND:20260514T090000Z
LOCATION:Ref. Kirche Koblenz\, \,  Koblenz
TRANSP:OPAQUE
SEQUENCE:0
UID:10890-veranstaltung@ref-klingnau.ch
DTSTAMP:20260422T080255Z
DESCRIPTION:Kontakt: Pfarrerin Jasmin von Wartburg\n\nWeitere Infos:
  https://www.ref-klingnau.ch/veranstaltung/10890
SUMMARY:«Kirche unterwegs»- Gottesdienst mit Abendmahl zur Auffahrt in
  Koblenz mit Pfarrerin Jasmin von Wartburg; Musik: Izaskun Yaben und
  Martin Roos\, Waldhorn und Alphorn. Anschliessend Apéro.
PRIORITY:5
X-MICROSOFT-CDO-IMPORTANCE:1
CLASS:PUBLIC
END:VEVENT
END:VCALENDAR
