BEGIN:VCALENDAR
PRODID:-//kirchenweb.ch gmbh//veranstaltungsausgabe v2.0//DE
VERSION:2.0
METHOD:PUBLISH
BEGIN:VEVENT
DTSTART;VALUE=DATE:20260905
DTEND;VALUE=DATE:20260906
LOCATION:\, \,
TRANSP:OPAQUE
SEQUENCE:0
UID:10897-veranstaltung@ref-klingnau.ch
DTSTAMP:20260331T105312Z
DESCRIPTION:An den Samstagen\, 2. Mai\, 6. Juni\, 8. August und 5.
  September wird im Fricktal gewandert. Die erste Strecke führt auf dem
  Flösserweg von Mandach nach Laufenburg. Besammlung jeweils um 7:30 Uhr
  am Bahnhof Döttingen.\n\nKontakt: Josef Fuchs\nSommerweg 4\n5313
  Klingnau\n056 245 44 33\n\nWeitere Infos:
  https://www.ref-klingnau.ch/veranstaltung/10897
SUMMARY:Wandern auf dem Jakobsweg
PRIORITY:5
X-MICROSOFT-CDO-IMPORTANCE:1
CLASS:PUBLIC
END:VEVENT
END:VCALENDAR
