BEGIN:VCALENDAR
PRODID:-//kirchenweb.ch gmbh//veranstaltungsausgabe v2.0//DE
VERSION:2.0
METHOD:PUBLISH
BEGIN:VEVENT
DTSTART:20260515T160000Z
DTEND:20260515T170000Z
LOCATION:Ref. Kirche Koblenz\, \, 5322 Koblenz
TRANSP:OPAQUE
SEQUENCE:0
UID:10900-veranstaltung@ref-klingnau.ch
DTSTAMP:20260331T110940Z
DESCRIPTION:«Nach der Konfirmation ist vor der Pizza-Church»\, ein neues
  Projekt mit Jugendlichen. Ab April wird dieses Angebot monatlich am 3.
  Freitagabend in Koblenz stattfinden.\n\n\nKontakt: Pfarrer Markus
  Dettwiler\n\nWeitere Infos:
  https://www.ref-klingnau.ch/veranstaltung/10900
SUMMARY:Pizza-Church für die Jugend
PRIORITY:5
X-MICROSOFT-CDO-IMPORTANCE:1
CLASS:PUBLIC
END:VEVENT
END:VCALENDAR
