BEGIN:VCALENDAR
PRODID:-//kirchenweb.ch gmbh//veranstaltungsausgabe v2.0//DE
VERSION:2.0
METHOD:PUBLISH
BEGIN:VEVENT
DTSTART:20261007T173000Z
DTEND:20261007T190000Z
LOCATION:Johanniter in Klingnau\, \, 5313 Klingnau
TRANSP:OPAQUE
SEQUENCE:0
UID:10905-veranstaltung@ref-klingnau.ch
DTSTAMP:20260409T065314Z
DESCRIPTION:Kontakt: Seelsorger Peter Zürn\n\nWeitere Infos:
  https://www.ref-klingnau.ch/veranstaltung/10905
SUMMARY:Ökumenischer Lektürekreis
PRIORITY:5
X-MICROSOFT-CDO-IMPORTANCE:1
CLASS:PUBLIC
END:VEVENT
END:VCALENDAR
