BEGIN:VCALENDAR
PRODID:-//kirchenweb.ch gmbh//veranstaltungsausgabe v2.0//DE
VERSION:2.0
METHOD:PUBLISH
BEGIN:VEVENT
DTSTART:20260501T160000Z
DTEND:20260501T170000Z
LOCATION:Ref. Kirche Koblenz\, \, 5322 Koblenz
TRANSP:OPAQUE
SEQUENCE:0
UID:10908-veranstaltung@ref-klingnau.ch
DTSTAMP:20260414T084150Z
DESCRIPTION:Jeden 1. Freitag in den Sommerzeit-Monaten (April bis Oktober)
  sind alle mit guter Laune und Freude an Begegnungen herzlich eingeladen
  zum Pizzaessen\, Drinks probieren und austauschen von Geschichten.\n
 \nKontakt: Pfarrer Markus Dettwiler\n\nWeitere Infos:
  https://www.ref-klingnau.ch/veranstaltung/10908
SUMMARY:Kanisa +
PRIORITY:5
X-MICROSOFT-CDO-IMPORTANCE:1
CLASS:PUBLIC
END:VEVENT
END:VCALENDAR
