BEGIN:VCALENDAR
PRODID:-//kirchenweb.ch gmbh//veranstaltungsausgabe v2.0//DE
VERSION:2.0
METHOD:PUBLISH
BEGIN:VEVENT
DTSTART:20260614T080000Z
DTEND:20260614T090000Z
LOCATION:Ref. Kirche\, Kirchweg 14\, 5313 Klingnau
TRANSP:OPAQUE
SEQUENCE:0
UID:10917-veranstaltung@ref-klingnau.ch
DTSTAMP:20260422T084515Z
DESCRIPTION:Kontakt: Pfarrer Markus Dettwiler\n\nWeitere Infos:
  https://www.ref-klingnau.ch/veranstaltung/10917
SUMMARY:Gottesdienst mit Vorstellung der neuen Konfirmanden\,
  anschliessend Kirchenkaffee
PRIORITY:5
X-MICROSOFT-CDO-IMPORTANCE:1
CLASS:PUBLIC
END:VEVENT
END:VCALENDAR
