BEGIN:VCALENDAR
PRODID:-//kirchenweb.ch gmbh//veranstaltungsausgabe v2.0//DE
VERSION:2.0
METHOD:PUBLISH
BEGIN:VEVENT
DTSTART:20260621T080000Z
DTEND:20260621T090000Z
LOCATION:Online\, www.zaeme.si\, \,
TRANSP:OPAQUE
SEQUENCE:0
UID:10918-veranstaltung@ref-klingnau.ch
DTSTAMP:20260422T084914Z
DESCRIPTION:Kontakt: Pfarrer Markus Dettwiler\n\nWeitere Infos:
  https://www.ref-klingnau.ch/veranstaltung/10918
SUMMARY:Digitaler-"Zäme"-Gottesdienst
PRIORITY:5
X-MICROSOFT-CDO-IMPORTANCE:1
CLASS:PUBLIC
END:VEVENT
END:VCALENDAR
